BEGIN:VCALENDAR
VERSION:2.0
PRODID:-//ברקה - הופעות חיות - ECPv4.6.13//NONSGML v1.0//EN
CALSCALE:GREGORIAN
METHOD:PUBLISH
X-WR-CALNAME:ברקה - הופעות חיות
X-ORIGINAL-URL:https://www.barakalive.co.il
X-WR-CALDESC:Events for ברקה - הופעות חיות
BEGIN:VEVENT
DTSTART;TZID=UTC+0:20180605T203000
DTEND;TZID=UTC+0:20180605T233000
DTSTAMP:20210605T045051
CREATED:20180417T093006Z
LAST-MODIFIED:20180605T145605Z
UID:274-1528230600-1528241400@www.barakalive.co.il
SUMMARY:גיא ויהל מארחים את איפה הילד
DESCRIPTION:\nגיא ויהל\, צמד הזמרים-יוצרים\, ביססו את מעמדם כאחד מההרכבים המעניינים והמצליחים בישראל בשנים האחרונות.\n   \nהצמד זכה להצלחה גדולה בשנים האחרונות עם שרשרת הלהיטים “רצים באוויר”\, “השמש תזרח”\, “אל תעשי מזה עניין” “להציל אותי”\, “תראי אני אוהב”\, “שעות של אמת”\, “מרוב אושר”\, “הכול יכול לקרות” \,”שמים בוערים” ו-“בא לי לדבר”.\n   \nזכו בפרס תגלית השנה של אקו”ם והביאו בשורה וסאונד חדש וייחודי למוסיקה הישראלית.\n   \nאלבום הבכורה שלהם והאלבום “שמים בוערים” הגיעו למעמד של אלבום זהב.\n   \nעם רפרטואר שירים עשיר\, ושרשרת להיטים \,הם בעיצומו של סיבוב השקת אלבומם הרביעי והמסקרן ממנו יצאו השירים :”השמש תזרח” \,\n   \n“הכל יכול לקרות”  ו”אל תעשי מזה עניין”  שזכו להצלחה אדירה בשטח וברדיו !\n  פתיחת דלתות: 20:30 \nתחילת מופע: 21:30 \n\n \n\n                    \n                    \n                    \n                    \n                    \n                    \n                    iFrameResize({autoResize : true\, checkOrigin : false}\, "iframe.resizableFrame");\n                    \n                \n                \n
URL:https://www.barakalive.co.il/event/%d7%92%d7%99%d7%90-%d7%95%d7%99%d7%94%d7%9c-%d7%9e%d7%90%d7%a8%d7%97%d7%99%d7%9d-%d7%90%d7%aa-%d7%90%d7%99%d7%a4%d7%94-%d7%94%d7%99%d7%9c%d7%93-2/
ATTACH;FMTTYPE=image/jpeg:https://www.barakalive.co.il/wp-content/uploads/2018/04/4a1d0a8b4160b025464ccc07494ad802cd4349a26aa1b6cfabe57cd563d623658e95b02b4b2676d17dec74bfda6ddf28bd1a3428deba9872f69f647626e15d72.jpg
END:VEVENT
END:VCALENDAR