BEGIN:VCALENDAR
VERSION:2.0
PRODID:-//ברקה - הופעות חיות - ECPv4.6.13//NONSGML v1.0//EN
CALSCALE:GREGORIAN
METHOD:PUBLISH
X-WR-CALNAME:ברקה - הופעות חיות
X-ORIGINAL-URL:https://www.barakalive.co.il
X-WR-CALDESC:Events for ברקה - הופעות חיות
BEGIN:VEVENT
DTSTART;TZID=UTC+2:20191217T203000
DTEND;TZID=UTC+2:20191217T233000
DTSTAMP:20210520T201421
CREATED:20191003T084435Z
LAST-MODIFIED:20191217T191712Z
UID:669-1576614600-1576625400@www.barakalive.co.il
SUMMARY:מארק אליהו טריו
DESCRIPTION:\nמארק אליהו \nטריו אלקטרו -אקוסטי \n\nמארק אליהו נחשב לאחד היוצרים המרתקים והמרגשים על הבמות כיום. \nהוא מוזיקאי בעל שם בינלאומי\, מלחין ומפיק יוצא דופן\, מולטי אינסטרומנטליסט\, ומאסטר קמנצ׳ה. \nבמופע האלקטרו-אקוסטי החדש מארק אליהו לוקח צעד קדימה את השילוב בין מזרח ומערב ובין \nישן וחדש\, הוא משלב את תורת המקאם וכלים מהעולם העתיק כמו ֿ קמנצ׳ה ובגלמה יחד עם \nהפקה חדשנית ואלקטרוניקה עתידנית\, לתוך מסיבה נוסעת עמוסה ברגש ובלחנים יוצאי הדופן שלו. \nהמופע משלב עיבודים חדשים לקטעים המוכרים\, יחד עם קטעים חדשים שהולחנו במיוחד להופעה \nהזו. \n\nעל הבמה- \nמארק אליהו- קמנצ׳ה בגלמה ושירה \nחיים וייס- קלידים \nעדי רותם- סינת׳ים תכנותים וגיטרה \n\n-מופעה עמידה- \nפתיחת דלתות: 20:30 \nתחילת מופע: 21:30 \nקרדיט צלם: גבריאל בהרליה \n\n \n\n                    \n                    \n                    \n                    \n                    \n                    \n                    iFrameResize({autoResize : true\, checkOrigin : false}\, "iframe.resizableFrame");\n                    \n                \n                \n
URL:https://www.barakalive.co.il/event/%d7%9e%d7%90%d7%a8%d7%a7-%d7%90%d7%9c%d7%99%d7%94%d7%95-%d7%98%d7%a8%d7%99%d7%95/
ATTACH;FMTTYPE=image/jpeg:https://www.barakalive.co.il/wp-content/uploads/2019/10/eee7fb4bf181457dd60a5790018767a3.jpg
END:VEVENT
END:VCALENDAR